BEGIN:VCALENDAR
VERSION:2.0
PRODID:-//WCSA - ECPv6.15.17.1//NONSGML v1.0//EN
CALSCALE:GREGORIAN
METHOD:PUBLISH
X-WR-CALNAME:WCSA
X-ORIGINAL-URL:https://wcsawater.com
X-WR-CALDESC:Events for WCSA
REFRESH-INTERVAL;VALUE=DURATION:PT1H
X-Robots-Tag:noindex
X-PUBLISHED-TTL:PT1H
BEGIN:VTIMEZONE
TZID:UTC
BEGIN:STANDARD
TZOFFSETFROM:+0000
TZOFFSETTO:+0000
TZNAME:UTC
DTSTART:20210101T000000
END:STANDARD
END:VTIMEZONE
BEGIN:VEVENT
DTSTART;TZID=UTC:20220625T080000
DTEND;TZID=UTC:20220625T190000
DTSTAMP:20260423T211023
CREATED:20220608T231745Z
LAST-MODIFIED:20220608T231745Z
UID:48990-1656144000-1656183600@wcsawater.com
SUMMARY:June 25\, 2022 Special Called Meeting
DESCRIPTION:PLEASE TAKE NOTICE that the Board of Commissioners of the Washington County Service Authority will hold a Board Retreat from 8:00 am to 7:00 pm on Saturday\, June 25\, 2022\, in the E. W. Potts\, Jr.  Board Room at its administrative office located at 25122 Regal Drive in Abingdon\, Virginia.  The purpose of the meeting is to discuss and consider matters related to the strategic plan and governance of the Washington County Service Authority.
URL:https://wcsawater.com/index.php/event/june-25-2022-special-called-meeting-2/
END:VEVENT
END:VCALENDAR