BEGIN:VCALENDAR
VERSION:2.0
PRODID:-//WCSA - ECPv6.15.17.1//NONSGML v1.0//EN
CALSCALE:GREGORIAN
METHOD:PUBLISH
X-ORIGINAL-URL:https://wcsawater.com
X-WR-CALDESC:Events for WCSA
REFRESH-INTERVAL;VALUE=DURATION:PT1H
X-Robots-Tag:noindex
X-PUBLISHED-TTL:PT1H
BEGIN:VTIMEZONE
TZID:UTC
BEGIN:STANDARD
TZOFFSETFROM:+0000
TZOFFSETTO:+0000
TZNAME:UTC
DTSTART:20210101T000000
END:STANDARD
END:VTIMEZONE
BEGIN:VEVENT
DTSTART;TZID=UTC:20220627T160000
DTEND;TZID=UTC:20220627T173000
DTSTAMP:20260424T123246
CREATED:20220608T231315Z
LAST-MODIFIED:20220608T231547Z
UID:48987-1656345600-1656351000@wcsawater.com
SUMMARY:June 27\, 2022 Special Called Meeting
DESCRIPTION:The Board of Commissioners of the Washington County Service Authority plans to hold a Budget Workshop starting at 4:00 pm on Monday\, June 27\, 2022 in the E. W. Potts\, Jr. Board Room at its administrative office located at 25122 Regal Drive in Abingdon\, Virginia. \nFor more information\, please contact WCSA at (276) 628-7151. \n 
URL:https://wcsawater.com/index.php/event/june-25-2022-special-called-meeting/
END:VEVENT
BEGIN:VEVENT
DTSTART;TZID=UTC:20220627T180000
DTEND;TZID=UTC:20220627T213000
DTSTAMP:20260424T123246
CREATED:20210727T185806Z
LAST-MODIFIED:20210727T185825Z
UID:48645-1656352800-1656365400@wcsawater.com
SUMMARY:June 27\, 2022 Regular Board Meeting
DESCRIPTION:The Regular Board Meeting of the Washington County Service Authority will be held in the E. W. Potts\, Jr. Board Room at 6:00 pm in the Administrative Office located at 25122 Regal Drive in Abingdon\, Virginia. The public is welcome to attend.
URL:https://wcsawater.com/index.php/event/june-27-2022-regular-board-meeting/
END:VEVENT
END:VCALENDAR