BEGIN:VCALENDAR
VERSION:2.0
PRODID:-//WCSA - ECPv6.15.17.1//NONSGML v1.0//EN
CALSCALE:GREGORIAN
METHOD:PUBLISH
X-ORIGINAL-URL:https://wcsawater.com
X-WR-CALDESC:Events for WCSA
REFRESH-INTERVAL;VALUE=DURATION:PT1H
X-Robots-Tag:noindex
X-PUBLISHED-TTL:PT1H
BEGIN:VTIMEZONE
TZID:UTC
BEGIN:STANDARD
TZOFFSETFROM:+0000
TZOFFSETTO:+0000
TZNAME:UTC
DTSTART:20210101T000000
END:STANDARD
END:VTIMEZONE
BEGIN:VEVENT
DTSTART;TZID=UTC:20221103T180000
DTEND;TZID=UTC:20221103T200000
DTSTAMP:20260420T031049
CREATED:20221031T173925Z
LAST-MODIFIED:20221031T174000Z
UID:49069-1667498400-1667505600@wcsawater.com
SUMMARY:Called Meeting Thursday\, November 3\, 2022
DESCRIPTION:Called Meeting \n The Board of Commissioners of the Washington County Service Authority plans to hold a Called Meeting starting at 6:00 pm on Thursday\, November 3\, 2022 in the E. W. Potts\, Jr. Board Room at its administrative office located at 25122 Regal Drive in Abingdon\, Virginia for purposes of discussing the acquisition of real property by agreement or condemnation for the Lee Highway Sewer Project\, to discuss the Elliott\, Lawson and Minor Legal Services Agreement\, and to discuss employee matters. \nFor more information\, please contact WCSA at (276) 628-7151.
URL:https://wcsawater.com/index.php/event/called-meeting-thursday-november-3-2022/
END:VEVENT
END:VCALENDAR