BEGIN:VCALENDAR
VERSION:2.0
PRODID:-//WCSA - ECPv6.15.17.1//NONSGML v1.0//EN
CALSCALE:GREGORIAN
METHOD:PUBLISH
X-ORIGINAL-URL:https://wcsawater.com
X-WR-CALDESC:Events for WCSA
REFRESH-INTERVAL;VALUE=DURATION:PT1H
X-Robots-Tag:noindex
X-PUBLISHED-TTL:PT1H
BEGIN:VTIMEZONE
TZID:UTC
BEGIN:STANDARD
TZOFFSETFROM:+0000
TZOFFSETTO:+0000
TZNAME:UTC
DTSTART:20210101T000000
END:STANDARD
END:VTIMEZONE
BEGIN:VEVENT
DTSTART;TZID=UTC:20220711T130000
DTEND;TZID=UTC:20220711T163000
DTSTAMP:20260423T201017
CREATED:20220630T203245Z
LAST-MODIFIED:20220630T203321Z
UID:49000-1657544400-1657557000@wcsawater.com
SUMMARY:July 11\, 2022 Special Called Meeting
DESCRIPTION:Special Called Meeting \nThe Outside Legal Counsel Procurement Committee of the Board of Commissioners of the Washington County Service Authority plans to hold a Procurement Committee meeting from 1:00 pm to 4:30 pm on Monday\, July 11\, 2022 in the Jack S. Cole Conference Room at its administrative office located at 25122 Regal Drive in Abingdon\, Virginia for purposes of interviewing outside legal counsel prospects. \nFor more information\, please contact WCSA at (276) 628-7151.
URL:https://wcsawater.com/index.php/event/july-11-2022-special-called-meeting/
END:VEVENT
BEGIN:VEVENT
DTSTART;TZID=UTC:20220718T180000
DTEND;TZID=UTC:20220718T213000
DTSTAMP:20260423T201017
CREATED:20220426T184859Z
LAST-MODIFIED:20220427T190937Z
UID:48935-1658167200-1658179800@wcsawater.com
SUMMARY:July 18\, 2022 Annual Board Meeting
DESCRIPTION:The Annual Board Meeting of the Washington County Service Authority will be held in the E. W. Potts\, Jr. Board Room at 6:00 pm in the Administrative Office located at 25122 Regal Drive in Abingdon\, Virginia. The public is welcome to attend.
URL:https://wcsawater.com/index.php/event/july-18-2022-annual-board-meeting/
END:VEVENT
END:VCALENDAR