BEGIN:VCALENDAR
VERSION:2.0
PRODID:-//WCSA - ECPv6.15.17.1//NONSGML v1.0//EN
CALSCALE:GREGORIAN
METHOD:PUBLISH
X-WR-CALNAME:WCSA
X-ORIGINAL-URL:https://wcsawater.com
X-WR-CALDESC:Events for WCSA
REFRESH-INTERVAL;VALUE=DURATION:PT1H
X-Robots-Tag:noindex
X-PUBLISHED-TTL:PT1H
BEGIN:VTIMEZONE
TZID:UTC
BEGIN:STANDARD
TZOFFSETFROM:+0000
TZOFFSETTO:+0000
TZNAME:UTC
DTSTART:20210101T000000
END:STANDARD
END:VTIMEZONE
BEGIN:VEVENT
DTSTART;TZID=UTC:20220926T180000
DTEND;TZID=UTC:20220926T210000
DTSTAMP:20260421T083723
CREATED:20220719T172610Z
LAST-MODIFIED:20220719T172651Z
UID:49015-1664215200-1664226000@wcsawater.com
SUMMARY:September 26\, 2022 Regular Board Meeting
DESCRIPTION:The Board of Commissioners of the Washington County Service Authority will hold a Regular Board Meeting starting at 6:00 pm in the E. W. Potts\, Jr. Board Room at its administrative office located at 25122 Regal Drive in Abingdon\, Virginia 24211. The public is welcome to attend.
URL:https://wcsawater.com/index.php/event/september-26-2022-regular-board-meeting/
END:VEVENT
END:VCALENDAR