BEGIN:VCALENDAR
VERSION:2.0
PRODID:-//WCSA - ECPv6.15.17.1//NONSGML v1.0//EN
CALSCALE:GREGORIAN
METHOD:PUBLISH
X-ORIGINAL-URL:https://wcsawater.com
X-WR-CALDESC:Events for WCSA
REFRESH-INTERVAL;VALUE=DURATION:PT1H
X-Robots-Tag:noindex
X-PUBLISHED-TTL:PT1H
BEGIN:VTIMEZONE
TZID:UTC
BEGIN:STANDARD
TZOFFSETFROM:+0000
TZOFFSETTO:+0000
TZNAME:UTC
DTSTART:20210101T000000
END:STANDARD
END:VTIMEZONE
BEGIN:VEVENT
DTSTART;TZID=UTC:20221024T180000
DTEND;TZID=UTC:20221024T210000
DTSTAMP:20260420T222800
CREATED:20220719T173013Z
LAST-MODIFIED:20220719T173013Z
UID:49017-1666634400-1666645200@wcsawater.com
SUMMARY:October 24\, 2022 Regular Board Meeting
DESCRIPTION:The Board of Commissioners of the Washington County Service Authority will hold a Regular Board Meeting starting at 6:00 pm in the E. W. Potts\, Jr. Board Room at its administrative office located at 25122 Regal Drive in Abingdon\, Virginia 24211. The public is welcome to attend.
URL:https://wcsawater.com/index.php/event/october-24-2022-regular-board-meeting/
END:VEVENT
END:VCALENDAR